BEGIN:VCALENDAR
PRODID:-//eluceo/ical//2.0/EN
VERSION:2.0
CALSCALE:GREGORIAN
BEGIN:VEVENT
UID:7a3350e0271dc3da5cf01514d59ad753
DTSTAMP:20260423T224624Z
SUMMARY:Temple Emanuel Adult Education
DESCRIPTION:Jewish Federation of Central Massachusetts\nCalendar\nhttps://j
 ewishcentralmass.org/calendar/temple-emanuel-adult-education\n\nTE Adult E
 d
DTSTART;TZID=America/New_York:20130113T100000
DTEND;TZID=America/New_York:20130113T103000
END:VEVENT
END:VCALENDAR
