BEGIN:VCALENDAR
PRODID:-//eluceo/ical//2.0/EN
VERSION:2.0
CALSCALE:GREGORIAN
BEGIN:VEVENT
UID:54ddd5fa4eb14652cc3a8d8b9c99b03b
DTSTAMP:20260422T040318Z
SUMMARY:Temple Emanuel Adult Ed Program
DESCRIPTION:Jewish Federation of Central Massachusetts\nCalendar\nhttps://j
 ewishcentralmass.org/calendar/temple-emanuel-adult-ed-program\n\nTE Adult 
 Ed Prog
DTSTART;TZID=America/New_York:20130210T100000
DTEND;TZID=America/New_York:20130210T103000
END:VEVENT
END:VCALENDAR
