BEGIN:VCALENDAR
PRODID:-//eluceo/ical//2.0/EN
VERSION:2.0
CALSCALE:GREGORIAN
BEGIN:VEVENT
UID:30403ff9f996bacd9e04f817d426d137
DTSTAMP:20260422T154908Z
SUMMARY:Temple Emanuel Adult Ed
DESCRIPTION:Jewish Federation of Central Massachusetts\nCalendar\nhttps://j
 ewishcentralmass.org/calendar/temple-emanuel-adult-ed\n\nTE Adult Ed
DTSTART;TZID=America/New_York:20130317T100000
DTEND;TZID=America/New_York:20130317T103000
END:VEVENT
END:VCALENDAR
