BEGIN:VCALENDAR
PRODID:-//eluceo/ical//2.0/EN
VERSION:2.0
CALSCALE:GREGORIAN
BEGIN:VEVENT
UID:8c7c9598b7ec5d5741b2d1d70b255aa1
DTSTAMP:20260423T205137Z
SUMMARY:TE/TS Eco-weekend/ celebration
DESCRIPTION:Jewish Federation of Central Massachusetts\nCalendar\nhttps://j
 ewishcentralmass.org/calendar/te-ts-eco-weekend--celebration\n\nTE/TS Eco-
 weekend/ celebration
DTSTART;TZID=America/New_York:20130614T000000
DTEND;TZID=America/New_York:20130615T235900
END:VEVENT
END:VCALENDAR
