BEGIN:VCALENDAR
PRODID:-//eluceo/ical//2.0/EN
VERSION:2.0
CALSCALE:GREGORIAN
BEGIN:VEVENT
UID:9a71a931790f3e0e5319e2a97b55b343
DTSTAMP:20260421T063625Z
SUMMARY:Tapper Charitable Foundation Righteous Gentile Award 2023
DESCRIPTION:Jewish Federation of Central Massachusetts\nCalendar\nhttps://j
 ewishcentralmass.org/calendar/tapper-charitable-foundation-righteous-genti
 le-award-2023\n\nSeptember 6 at noon at JCC: \n\nTapper Charitable Founda
 tion Righteous Gentile Award for Lt. Gov. Polito
DTSTART;TZID=America/New_York:20230906T120000
DTEND;TZID=America/New_York:20230906T140000
END:VEVENT
END:VCALENDAR
