BEGIN:VCALENDAR
PRODID:-//eluceo/ical//2.0/EN
VERSION:2.0
CALSCALE:GREGORIAN
BEGIN:VEVENT
UID:8cfcac30623068ad3c52d9f07b68fb67
DTSTAMP:20260422T064950Z
SUMMARY:Super Sunday – March 5
DESCRIPTION:Jewish Federation of Central Massachusetts\nCalendar\nhttps://j
 ewishcentralmass.org/calendar/super-sunday-march-5\n\nSuper Sunday – Mar
 ch 5
DTSTART;TZID=America/New_York:20230305T090000
DTEND;TZID=America/New_York:20230305T140000
END:VEVENT
END:VCALENDAR
