BEGIN:VCALENDAR
PRODID:-//eluceo/ical//2.0/EN
VERSION:2.0
CALSCALE:GREGORIAN
BEGIN:VEVENT
UID:dd7dd500e4836de515ba5a4e66263543
DTSTAMP:20260424T004801Z
SUMMARY:Super Sunday 2021
DESCRIPTION:Jewish Federation of Central Massachusetts\nCalendar\nhttps://j
 ewishcentralmass.org/calendar/super-sunday-2021\n\nSuper Sunday \n\nDecem
 ber 19\, 9:00 am - 2:00 pm
DTSTART;TZID=America/New_York:20211219T090000
DTEND;TZID=America/New_York:20211219T140000
END:VEVENT
END:VCALENDAR
