BEGIN:VCALENDAR
PRODID:-//eluceo/ical//2.0/EN
VERSION:2.0
CALSCALE:GREGORIAN
BEGIN:VEVENT
UID:f4baac495eda7f81ca6f313c397b32fc
DTSTAMP:20260421T103728Z
SUMMARY:Super Sunday 2020
DESCRIPTION:Jewish Federation of Central Massachusetts\nCalendar\nhttps://j
 ewishcentralmass.org/calendar/super-sunday-2020\n\nSuper Sunday 2020
DTSTART;TZID=America/New_York:20201206T090000
DTEND;TZID=America/New_York:20201206T130000
END:VEVENT
END:VCALENDAR
