BEGIN:VCALENDAR
PRODID:-//eluceo/ical//2.0/EN
VERSION:2.0
CALSCALE:GREGORIAN
BEGIN:VEVENT
UID:28c58f3d240ef65886b09904a79cd2fd
DTSTAMP:20260421T222810Z
SUMMARY:Sukkot - First Days 5785
DESCRIPTION:Jewish Federation of Central Massachusetts\nCalendar\nhttps://j
 ewishcentralmass.org/calendar/sukkot-first-days-5785\n\nSukkot - First Day
 s 5785
DTSTART;TZID=America/New_York:20241017T000000
DTEND;TZID=America/New_York:20241018T235959
END:VEVENT
END:VCALENDAR
