BEGIN:VCALENDAR
PRODID:-//eluceo/ical//2.0/EN
VERSION:2.0
CALSCALE:GREGORIAN
BEGIN:VEVENT
UID:885f0c1b6b48b152d3d27712bc899468
DTSTAMP:20260423T072245Z
SUMMARY:SUKKOT
DESCRIPTION:Jewish Federation of Central Massachusetts\nCalendar\nhttps://j
 ewishcentralmass.org/calendar/sukkot\n\nSUKKOT
DTSTART;TZID=America/New_York:20130919T000000
DTEND;TZID=America/New_York:20130926T235900
END:VEVENT
END:VCALENDAR
