BEGIN:VCALENDAR
PRODID:-//eluceo/ical//2.0/EN
VERSION:2.0
CALSCALE:GREGORIAN
BEGIN:VEVENT
UID:599c20a85f342d881c4a0383c388fa5a
DTSTAMP:20260422T154858Z
SUMMARY:STW Film Screening "Above and Beyond"
DESCRIPTION:Jewish Federation of Central Massachusetts\nCalendar\nhttps://j
 ewishcentralmass.org/calendar/stw-film-screening-above-and-beyond\n\nShaar
 ai Torah West will be showing the film "Above & Beyond"
DTSTART;TZID=America/New_York:20160410T190000
DTEND;TZID=America/New_York:20160410T210000
END:VEVENT
END:VCALENDAR
