BEGIN:VCALENDAR
PRODID:-//eluceo/ical//2.0/EN
VERSION:2.0
CALSCALE:GREGORIAN
BEGIN:VEVENT
UID:4db5991c1f63639e60b6ff4088bb8cca
DTSTAMP:20260423T074302Z
SUMMARY:Stand With Us Program at JCC
DESCRIPTION:Jewish Federation of Central Massachusetts\nCalendar\nhttps://j
 ewishcentralmass.org/calendar/stand-with-us-program-at-jcc\n\nStand With U
 s Program at JCC\n\nDecember 4\n\n6:00 - 7:30 pm
DTSTART;TZID=America/New_York:20231204T180000
DTEND;TZID=America/New_York:20231204T193000
END:VEVENT
END:VCALENDAR
