BEGIN:VCALENDAR
PRODID:-//eluceo/ical//2.0/EN
VERSION:2.0
CALSCALE:GREGORIAN
BEGIN:VEVENT
UID:605d721915c354afdf5938da9ace90c4
DTSTAMP:20260422T105545Z
SUMMARY:Stage Production of “Anne Frank and Me”
DESCRIPTION:Jewish Federation of Central Massachusetts\nCalendar\nhttps://j
 ewishcentralmass.org/calendar/stage-production-of-anne-frank-and-me\n\nMay
  12th:  Stage Production of “Anne Frank and Me”\, Worcester JCC\, 2:0
 0 pm
DTSTART;TZID=America/New_York:20190512T140000
DTEND;TZID=America/New_York:20190512T160000
END:VEVENT
END:VCALENDAR
