BEGIN:VCALENDAR
PRODID:-//eluceo/ical//2.0/EN
VERSION:2.0
CALSCALE:GREGORIAN
BEGIN:VEVENT
UID:1407ad863889c9cb23fb94018e69ed21
DTSTAMP:20260423T060553Z
SUMMARY:Stacey Peasley - MLK Day Band Show
DESCRIPTION:Jewish Federation of Central Massachusetts\nCalendar\nhttps://j
 ewishcentralmass.org/calendar/stacey-peasley\n\nStacey Peasley - MLK Day B
 and Show
DTSTART;TZID=America/New_York:20160118T103000
DTEND;TZID=America/New_York:20160118T113000
END:VEVENT
END:VCALENDAR
