BEGIN:VCALENDAR
PRODID:-//eluceo/ical//2.0/EN
VERSION:2.0
CALSCALE:GREGORIAN
BEGIN:VEVENT
UID:747c3f28d8ac1eba9140e5f2a5836114
DTSTAMP:20260422T101352Z
SUMMARY:Spring Concert
DESCRIPTION:Jewish Federation of Central Massachusetts\nCalendar\nhttps://j
 ewishcentralmass.org/calendar/spring-concert\n\nSun.\, June 11\, 2017\, 7 
 pm\, Spring Concert\, at Congregation B'nai Shalom\, Westborough\n\n 
DTSTART;TZID=America/New_York:20170611T190000
DTEND;TZID=America/New_York:20170611T210000
END:VEVENT
END:VCALENDAR
