BEGIN:VCALENDAR
PRODID:-//eluceo/ical//2.0/EN
VERSION:2.0
CALSCALE:GREGORIAN
BEGIN:VEVENT
UID:28c03944f54a618297ba2942623e9c49
DTSTAMP:20260424T210737Z
SUMMARY:Special event with Nir Salomon of Efrat Organization
DESCRIPTION:Jewish Federation of Central Massachusetts\nCalendar\nhttps://j
 ewishcentralmass.org/calendar/special-event-with-nir-salomon-of-efrat-orga
 nization\n\nSunday Jan 29 9:30am breakfast program at Torah Center with Ni
 r Salomon. \n\n 
DTSTART;TZID=America/New_York:20230129T093000
DTEND;TZID=America/New_York:20230129T113000
END:VEVENT
END:VCALENDAR
