BEGIN:VCALENDAR
PRODID:-//eluceo/ical//2.0/EN
VERSION:2.0
CALSCALE:GREGORIAN
BEGIN:VEVENT
UID:6982e89792d1d9aaec698c68fb18b171
DTSTAMP:20260422T142214Z
SUMMARY:Souper Bowl of Caring - BT_BI_AA
DESCRIPTION:Jewish Federation of Central Massachusetts\nCalendar\nhttps://j
 ewishcentralmass.org/calendar/souper-bowl-of-caring-bt_bi_aa\n\nSouper Bow
 l of Caring - BT_BI_AA\n\n9:00 am - 12:00 pm
DTSTART;TZID=America/New_York:20240211T090000
DTEND;TZID=America/New_York:20240211T120000
END:VEVENT
END:VCALENDAR
