BEGIN:VCALENDAR
PRODID:-//eluceo/ical//2.0/EN
VERSION:2.0
CALSCALE:GREGORIAN
BEGIN:VEVENT
UID:ca5b050fd1215f745592fb42152e15ec
DTSTAMP:20260423T004110Z
SUMMARY:Songs of Hope II
DESCRIPTION:Jewish Federation of Central Massachusetts\nCalendar\nhttps://j
 ewishcentralmass.org/calendar/songs-of-hope-ii\n\nThe Worcester Black-Jewi
 sh Alliance (WBJA)\, concert\, called “Songs of Hope II.”  Sunday aft
 ernoon\, December 8\, at a church in Worcester TBD.
DTSTART;TZID=America/New_York:20191208T160000
DTEND;TZID=America/New_York:20191208T180000
END:VEVENT
END:VCALENDAR
