BEGIN:VCALENDAR
PRODID:-//eluceo/ical//2.0/EN
VERSION:2.0
CALSCALE:GREGORIAN
BEGIN:VEVENT
UID:dc5e101c63f53e45b5dd5c858ab93f80
DTSTAMP:20260423T022422Z
SUMMARY:Songs of Hope Concert January 22\, 2023
DESCRIPTION:Jewish Federation of Central Massachusetts\nCalendar\nhttps://j
 ewishcentralmass.org/calendar/songs-of-hope-concert-january-22-2023\n\nSon
 gs of Hope Concert \n\nJanuary 22\, 2023\n\nTime TBD
DTSTART;TZID=America/New_York:20230122T170000
DTEND;TZID=America/New_York:20230122T190000
END:VEVENT
END:VCALENDAR
