BEGIN:VCALENDAR
PRODID:-//eluceo/ical//2.0/EN
VERSION:2.0
CALSCALE:GREGORIAN
BEGIN:VEVENT
UID:59c206d942f29ca29061bf3f4295ac7a
DTSTAMP:20260423T035501Z
SUMMARY:Snow Tubing  with New England Yachad
DESCRIPTION:Jewish Federation of Central Massachusetts\nCalendar\nhttps://j
 ewishcentralmass.org/calendar/snow-tubing-with-new-england-yachad\n\nSnow 
 Tubing  with New England Yachad
DTSTART;TZID=America/New_York:20160117T140000
DTEND;TZID=America/New_York:20160117T160000
END:VEVENT
END:VCALENDAR
