BEGIN:VCALENDAR
PRODID:-//eluceo/ical//2.0/EN
VERSION:2.0
CALSCALE:GREGORIAN
BEGIN:VEVENT
UID:2cfb990c30175b99ee784b91a5230004
DTSTAMP:20260423T141817Z
SUMMARY:SNEC ZoomArt Program
DESCRIPTION:Jewish Federation of Central Massachusetts\nCalendar\nhttps://j
 ewishcentralmass.org/calendar/snec-zoomart-program\n\nSNEC ZoomArt program
  with Mishkan Museum of Art on Kibbutz Ein Harod\n\nWednesday\, May 17th 
 at 12PM on Zoom.
DTSTART;TZID=America/New_York:20230517T120000
DTEND;TZID=America/New_York:20230517T140000
END:VEVENT
END:VCALENDAR
