BEGIN:VCALENDAR
PRODID:-//eluceo/ical//2.0/EN
VERSION:2.0
CALSCALE:GREGORIAN
BEGIN:VEVENT
UID:906a8e2deca0423565c729d1ed88fbac
DTSTAMP:20260423T162843Z
SUMMARY:SNEC - Yom Ha'Atzmaut Celebration
DESCRIPTION:Jewish Federation of Central Massachusetts\nCalendar\nhttps://j
 ewishcentralmass.org/calendar/snec-yom-haatzmaut-celebration\n\nSNEC partn
 ership Yom Ha'Atzmaut Celebration An aerial flight over Israel with 
 retired Israeli Air Force pilot Lieutenant Colonel Alon Moller - i
 n honor of Yom Haatzmaut - Israel's Birthday! Now a professional
  tour guide\, Alon will show us an amazing bird's-eye view of 
 the land and share the story of Israel through the lens of his
  family's journey.\n\nApril 18\, 2:30pm on zoom. 
DTSTART;TZID=America/New_York:20210418T143000
DTEND;TZID=America/New_York:20210418T160000
END:VEVENT
END:VCALENDAR
