BEGIN:VCALENDAR
PRODID:-//eluceo/ical//2.0/EN
VERSION:2.0
CALSCALE:GREGORIAN
BEGIN:VEVENT
UID:b19076a667ad7fabc272160ff22b2dd0
DTSTAMP:20260420T215024Z
SUMMARY:SNEC Virtual Chef Event with New Bedford
DESCRIPTION:Jewish Federation of Central Massachusetts\nCalendar\nhttps://j
 ewishcentralmass.org/calendar/snec-virtual-chef-event-with-new-bedford\n\n
 SNEC Virtual Chef Event - Virtual\n\n8:00 pm
DTSTART;TZID=America/New_York:20220223T200000
DTEND;TZID=America/New_York:20220223T220000
END:VEVENT
END:VCALENDAR
