BEGIN:VCALENDAR
PRODID:-//eluceo/ical//2.0/EN
VERSION:2.0
CALSCALE:GREGORIAN
BEGIN:VEVENT
UID:de17467a9103d0d6df125ee1e56c692c
DTSTAMP:20260423T140349Z
SUMMARY:SNEC Presentation with Special Guests
DESCRIPTION:Jewish Federation of Central Massachusetts\nCalendar\nhttps://j
 ewishcentralmass.org/calendar/snec-presentation-with-special-guests\n\nSNE
 C Presentation with Special Guests. Watch for more details to follow.
DTSTART;TZID=America/New_York:20170510T110000
DTEND;TZID=America/New_York:20170510T235959
END:VEVENT
END:VCALENDAR
