BEGIN:VCALENDAR
PRODID:-//eluceo/ical//2.0/EN
VERSION:2.0
CALSCALE:GREGORIAN
BEGIN:VEVENT
UID:63545f6d0c18e2762b71d5fd4a8fa73d
DTSTAMP:20260423T070420Z
SUMMARY:Simchat Torah Service with Klezmer Music
DESCRIPTION:Jewish Federation of Central Massachusetts\nCalendar\nhttps://j
 ewishcentralmass.org/calendar/simchat-torah-service-with-klezmer-music\n\n
 Simchat Torah Service with Klezmer Music:\n\nfeaturing Amy Rose and Glenn 
 Dickson\n\nSunday October 8th at 2:30 pm\n\nJewish Health Care Center Aud
 itorium
DTSTART;TZID=America/New_York:20231008T143000
DTEND;TZID=America/New_York:20231008T163000
END:VEVENT
END:VCALENDAR
