BEGIN:VCALENDAR
PRODID:-//eluceo/ical//2.0/EN
VERSION:2.0
CALSCALE:GREGORIAN
BEGIN:VEVENT
UID:902e4a6c7cd0ffc1c547301490987810
DTSTAMP:20260423T071346Z
SUMMARY:Simchat Torah - 5785
DESCRIPTION:Jewish Federation of Central Massachusetts\nCalendar\nhttps://j
 ewishcentralmass.org/calendar/simchat-torah-5785\n\nSimchat Torah - 5785
DTSTART;TZID=America/New_York:20241025T000000
DTEND;TZID=America/New_York:20241025T235959
END:VEVENT
END:VCALENDAR
