BEGIN:VCALENDAR
PRODID:-//eluceo/ical//2.0/EN
VERSION:2.0
CALSCALE:GREGORIAN
BEGIN:VEVENT
UID:17842832006a911e691c435196492233
DTSTAMP:20260423T171235Z
SUMMARY:SIMCHAT TORAH
DESCRIPTION:Jewish Federation of Central Massachusetts\nCalendar\nhttps://j
 ewishcentralmass.org/calendar/simchat-torah\n\nSIMCHAT TORAH
DTSTART;TZID=America/New_York:20130927T000000
DTEND;TZID=America/New_York:20130927T235900
END:VEVENT
END:VCALENDAR
