BEGIN:VCALENDAR
PRODID:-//eluceo/ical//2.0/EN
VERSION:2.0
CALSCALE:GREGORIAN
BEGIN:VEVENT
UID:d4c49dd600e174585b9a95daef59bd31
DTSTAMP:20260423T145603Z
SUMMARY:Silent film "City without Jews" to be shown at Clark University
DESCRIPTION:Jewish Federation of Central Massachusetts\nCalendar\nhttps://j
 ewishcentralmass.org/calendar/silent-film-city-without-jews-to-be-shown-at
 -clark-university\n\nClark University Silent Film Screening with Live Musi
 c\n\nTuesday\, April 4\, 2022\, 8pm\n\nThe City Without Jews Featuring liv
 e original music composed & performed by klezmer violinist Alicia Svigals 
 and silent film pianist\n\nRazzo Hall\, Traina Center for the Arts\n\nFree
  and Open to the Public
DTSTART;TZID=America/New_York:20230404T200000
DTEND;TZID=America/New_York:20230404T220000
END:VEVENT
END:VCALENDAR
