BEGIN:VCALENDAR
PRODID:-//eluceo/ical//2.0/EN
VERSION:2.0
CALSCALE:GREGORIAN
BEGIN:VEVENT
UID:2100b4285c3fbd4fc1c0c7836de9adf4
DTSTAMP:20260420T165759Z
SUMMARY:Shir Joy - Virtual Winter Concert
DESCRIPTION:Jewish Federation of Central Massachusetts\nCalendar\nhttps://j
 ewishcentralmass.org/calendar/shir-joy-virtual-winter-concert\n\nShir Joy 
 Chorus\, directed by Nan AK Gibbons\, presents\n\nLet Us Have Songs! A Vir
 tual Concert including virtual choirs\, parking lot recordings\, live comm
 entary\, & more\n\nSunday\, February 14\, 2021\, 7:00 pm\n\nhttps://www.sh
 irjoychorus.com/reservations \n\nTickets are free\, but donations are welc
 ome
DTSTART;TZID=America/New_York:20210214T190000
DTEND;TZID=America/New_York:20210214T210000
END:VEVENT
END:VCALENDAR
