BEGIN:VCALENDAR
PRODID:-//eluceo/ical//2.0/EN
VERSION:2.0
CALSCALE:GREGORIAN
BEGIN:VEVENT
UID:ff78a35f4483c020663c878ad49770af
DTSTAMP:20260423T005621Z
SUMMARY:Shir Joy - March 2023
DESCRIPTION:Jewish Federation of Central Massachusetts\nCalendar\nhttps://j
 ewishcentralmass.org/calendar/shir-joy-march-2023\n\nShir Joy winter conc
 ert \n\nMarch 5th at 7:00 pm\n\nBuy Tickets Here\n\n 
DTSTART;TZID=America/New_York:20230305T190000
DTEND;TZID=America/New_York:20230305T210000
END:VEVENT
END:VCALENDAR
