BEGIN:VCALENDAR
PRODID:-//eluceo/ical//2.0/EN
VERSION:2.0
CALSCALE:GREGORIAN
BEGIN:VEVENT
UID:08f5529e694a41fc43d0d7b1dbb409cc
DTSTAMP:20260423T045935Z
SUMMARY:Shir Joy - February 2024
DESCRIPTION:Jewish Federation of Central Massachusetts\nCalendar\nhttps://j
 ewishcentralmass.org/calendar/shir-joy-february-2024\n\nShir Joy Concert\n
 \n7:00 pm
DTSTART;TZID=America/New_York:20240225T190000
DTEND;TZID=America/New_York:20240225T210000
END:VEVENT
END:VCALENDAR
