BEGIN:VCALENDAR
PRODID:-//eluceo/ical//2.0/EN
VERSION:2.0
CALSCALE:GREGORIAN
BEGIN:VEVENT
UID:f8641b345ed42ef89fd672b7f5bdadb6
DTSTAMP:20260422T090448Z
SUMMARY:Shir Joy Concert
DESCRIPTION:Jewish Federation of Central Massachusetts\nCalendar\nhttps://j
 ewishcentralmass.org/calendar/shir-joy-concert3\n\nShir Joy Community Conc
 ert
DTSTART;TZID=America/New_York:20150607T190000
DTEND;TZID=America/New_York:20150607T210000
END:VEVENT
END:VCALENDAR
