BEGIN:VCALENDAR
PRODID:-//eluceo/ical//2.0/EN
VERSION:2.0
CALSCALE:GREGORIAN
BEGIN:VEVENT
UID:b15681c7d7aff81f152729d39ee18416
DTSTAMP:20260421T005427Z
SUMMARY:Shir Joy Concert
DESCRIPTION:Jewish Federation of Central Massachusetts\nCalendar\nhttps://j
 ewishcentralmass.org/calendar/shir-joy-concert2\n\nShir Joy community conc
 ert
DTSTART;TZID=America/New_York:20150208T190000
DTEND;TZID=America/New_York:20150208T210000
END:VEVENT
END:VCALENDAR
