BEGIN:VCALENDAR
PRODID:-//eluceo/ical//2.0/EN
VERSION:2.0
CALSCALE:GREGORIAN
BEGIN:VEVENT
UID:dcaebd04abd048724f94e627dbcd5a52
DTSTAMP:20260422T092912Z
SUMMARY:Shir Joy Concert
DESCRIPTION:Jewish Federation of Central Massachusetts\nCalendar\nhttps://j
 ewishcentralmass.org/calendar/shir-joy-concert1\n\nShir Joy Concert
DTSTART;TZID=America/New_York:20220626T190000
DTEND;TZID=America/New_York:20220626T210000
END:VEVENT
END:VCALENDAR
