BEGIN:VCALENDAR
PRODID:-//eluceo/ical//2.0/EN
VERSION:2.0
CALSCALE:GREGORIAN
BEGIN:VEVENT
UID:a65a4334cbcd9d875d7f127106085862
DTSTAMP:20260422T104624Z
SUMMARY:Shir Joy Concert - June 2024
DESCRIPTION:Jewish Federation of Central Massachusetts\nCalendar\nhttps://j
 ewishcentralmass.org/calendar/shir-joy-concert-june-2024\n\nShir Joy Conce
 rt\n\n7:00 pm
DTSTART;TZID=America/New_York:20240609T190000
DTEND;TZID=America/New_York:20240609T210000
END:VEVENT
END:VCALENDAR
