BEGIN:VCALENDAR
PRODID:-//eluceo/ical//2.0/EN
VERSION:2.0
CALSCALE:GREGORIAN
BEGIN:VEVENT
UID:5697d85ec2abed325fb006ba0b1eb162
DTSTAMP:20260423T053940Z
SUMMARY:Shir Joy Concert - June 2023
DESCRIPTION:Jewish Federation of Central Massachusetts\nCalendar\nhttps://j
 ewishcentralmass.org/calendar/shir-joy-concert-june-2023\n\nShir Joy Conce
 rt\n\nJune 4 at 7:00 pm\n\nLocation TBD
DTSTART;TZID=America/New_York:20230604T190000
DTEND;TZID=America/New_York:20230604T200000
END:VEVENT
END:VCALENDAR
