BEGIN:VCALENDAR
PRODID:-//eluceo/ical//2.0/EN
VERSION:2.0
CALSCALE:GREGORIAN
BEGIN:VEVENT
UID:d7eaf73bf45dccbb7494c1d7ab0fc2f1
DTSTAMP:20260422T003852Z
SUMMARY:Shir Joy Concert - February 2022
DESCRIPTION:Jewish Federation of Central Massachusetts\nCalendar\nhttps://j
 ewishcentralmass.org/calendar/shir-joy-concert-february-2022\n\nShir Joy C
 oncert - February 2022
DTSTART;TZID=America/New_York:20220206T180000
DTEND;TZID=America/New_York:20220206T200000
END:VEVENT
END:VCALENDAR
