BEGIN:VCALENDAR
PRODID:-//eluceo/ical//2.0/EN
VERSION:2.0
CALSCALE:GREGORIAN
BEGIN:VEVENT
UID:4ba9da452019a0e44ab5ba56727358ba
DTSTAMP:20260423T090445Z
SUMMARY:Shir Joy Concert - Feb 2025
DESCRIPTION:Jewish Federation of Central Massachusetts\nCalendar\nhttps://j
 ewishcentralmass.org/calendar/shir-joy-concert-feb-2025\n\nShir Joy Concer
 t at CBS\n\nFebruary 16 at 7:00 pm\n\nshirjoychorus.com
DTSTART;TZID=America/New_York:20250216T190000
DTEND;TZID=America/New_York:20250216T210000
END:VEVENT
END:VCALENDAR
