BEGIN:VCALENDAR
PRODID:-//eluceo/ical//2.0/EN
VERSION:2.0
CALSCALE:GREGORIAN
BEGIN:VEVENT
UID:e9eb38b7151cacdb988953709b928afb
DTSTAMP:20260422T170904Z
SUMMARY:Shir Joy Concert @ CBS
DESCRIPTION:Jewish Federation of Central Massachusetts\nCalendar\nhttps://j
 ewishcentralmass.org/calendar/shir-joy-concert--cbs\n\nShir Joy Concert
DTSTART;TZID=America/New_York:20140201T193000
DTEND;TZID=America/New_York:20140201T200000
END:VEVENT
END:VCALENDAR
