BEGIN:VCALENDAR
PRODID:-//eluceo/ical//2.0/EN
VERSION:2.0
CALSCALE:GREGORIAN
BEGIN:VEVENT
UID:2af8f54395fe2fe01754b583de582e9f
DTSTAMP:20260421T212322Z
SUMMARY:Shir Joy Concert
DESCRIPTION:Jewish Federation of Central Massachusetts\nCalendar\nhttps://j
 ewishcentralmass.org/calendar/shir-joy-concert\n\nShir Joy Concert
DTSTART;TZID=America/New_York:20130609T190000
DTEND;TZID=America/New_York:20130609T210000
END:VEVENT
END:VCALENDAR
