BEGIN:VCALENDAR
PRODID:-//eluceo/ical//2.0/EN
VERSION:2.0
CALSCALE:GREGORIAN
BEGIN:VEVENT
UID:493cbf3375677c874ecf75e55456d205
DTSTAMP:20260421T205928Z
SUMMARY:Shir Joy 2019 Opening Day
DESCRIPTION:Jewish Federation of Central Massachusetts\nCalendar\nhttps://j
 ewishcentralmass.org/calendar/shir-joy-2019-opening-day\n\nShir Joy Open R
 ehearsals\n\nSundays\, Oct. 27\, Nov. 3\, 17\, 2019\n\nMonday\, November 1
 1\, 2019\n6:00-8:15 pm\n 
DTSTART;TZID=America/New_York:20191027T180000
DTEND;TZID=America/New_York:20191027T201500
END:VEVENT
END:VCALENDAR
