BEGIN:VCALENDAR
PRODID:-//eluceo/ical//2.0/EN
VERSION:2.0
CALSCALE:GREGORIAN
BEGIN:VEVENT
UID:5f1ddab8f977d6808c9e53eba0f35484
DTSTAMP:20260422T025400Z
SUMMARY:Shir BaEmek Choir
DESCRIPTION:Jewish Federation of Central Massachusetts\nCalendar\nhttps://j
 ewishcentralmass.org/calendar/shir-baemek-choir\n\nShir BaEmek choir will 
 be in the community on April 29 and will perform at our Community wide Yo
 m Ha'Atzmaut event from 4-6:30 pm at Cyprian Keyes
DTSTART;TZID=America/New_York:20180429T160000
DTEND;TZID=America/New_York:20180429T183000
END:VEVENT
END:VCALENDAR
