BEGIN:VCALENDAR
PRODID:-//eluceo/ical//2.0/EN
VERSION:2.0
CALSCALE:GREGORIAN
BEGIN:VEVENT
UID:3c5e09aae013645a3006f2c20662e2bf
DTSTAMP:20260422T133337Z
SUMMARY:Shemini Atzeret - 5785
DESCRIPTION:Jewish Federation of Central Massachusetts\nCalendar\nhttps://j
 ewishcentralmass.org/calendar/shemini-atzeret-5785\n\nShemini Atzeret - 57
 85
DTSTART;TZID=America/New_York:20241024T000000
DTEND;TZID=America/New_York:20241024T235959
END:VEVENT
END:VCALENDAR
