BEGIN:VCALENDAR
PRODID:-//eluceo/ical//2.0/EN
VERSION:2.0
CALSCALE:GREGORIAN
BEGIN:VEVENT
UID:0664c0912f7fad3790c80c726642b544
DTSTAMP:20260424T204245Z
SUMMARY:Shavuot 5786
DESCRIPTION:Jewish Federation of Central Massachusetts\nCalendar\nhttps://j
 ewishcentralmass.org/calendar/shavuot-5786\n\nShavuot 5786
DTSTART;TZID=America/New_York:20260521T000000
DTEND;TZID=America/New_York:20260523T235959
END:VEVENT
END:VCALENDAR
