BEGIN:VCALENDAR
PRODID:-//eluceo/ical//2.0/EN
VERSION:2.0
CALSCALE:GREGORIAN
BEGIN:VEVENT
UID:d3064ec26a5d773bc19dac998c4dd73e
DTSTAMP:20260422T113701Z
SUMMARY:SHAVUOT
DESCRIPTION:Jewish Federation of Central Massachusetts\nCalendar\nhttps://j
 ewishcentralmass.org/calendar/shavuot\n\nSHAVUOT
DTSTART;TZID=America/New_York:20130515T000000
DTEND;TZID=America/New_York:20130516T235900
END:VEVENT
END:VCALENDAR
