BEGIN:VCALENDAR
PRODID:-//eluceo/ical//2.0/EN
VERSION:2.0
CALSCALE:GREGORIAN
BEGIN:VEVENT
UID:dc94f17f1942685ed93c0f4f24fd5953
DTSTAMP:20260423T185155Z
SUMMARY:Shabbat Shira Concert
DESCRIPTION:Jewish Federation of Central Massachusetts\nCalendar\nhttps://j
 ewishcentralmass.org/calendar/shabbat-shira-concert\n\nFebruary 11\, 7-9 p
 m – Shabbat Shira Concert at Temple Emanuel Sinai\, 661 Salisbury Street
 \, Worcester. \n\n \n\n \n\n \n\nAbby Mayou\, Business Manager\n\nTemp
 le Emanuel Sinai\n\n661 Salisbury St.\n\nWorcester\, MA 01609\n\n(508) 755
 -1257
DTSTART;TZID=America/New_York:20170211T190000
DTEND;TZID=America/New_York:20170211T210000
END:VEVENT
END:VCALENDAR
