BEGIN:VCALENDAR
PRODID:-//eluceo/ical//2.0/EN
VERSION:2.0
CALSCALE:GREGORIAN
BEGIN:VEVENT
UID:6c37ceb8290bb9bc90eccc02d9a3f169
DTSTAMP:20260423T145249Z
SUMMARY:Ezekiel’s Wheels Klezmer Band Concert
DESCRIPTION:Jewish Federation of Central Massachusetts\nCalendar\nhttps://j
 ewishcentralmass.org/calendar/shabbat-shira-at-tes\n\nEzekiel’s Wheels K
 lezmer Band performs for Shabbat Shira @ TES - Saturday\, February 8\, fr
 om 7:00 – 8:30pm
DTSTART;TZID=America/New_York:20250208T190000
DTEND;TZID=America/New_York:20250208T203000
END:VEVENT
END:VCALENDAR
