BEGIN:VCALENDAR
PRODID:-//eluceo/ical//2.0/EN
VERSION:2.0
CALSCALE:GREGORIAN
BEGIN:VEVENT
UID:6d1274ecd2878ab6cedf50b711bd376e
DTSTAMP:20260422T135707Z
SUMMARY:Shabbat Morning Playgroup & PJ Library Storytime_Congregation B’n
 ai Shalom
DESCRIPTION:Jewish Federation of Central Massachusetts\nCalendar\nhttps://j
 ewishcentralmass.org/calendar/shabbat-morning-playgroup-pj-library-storyti
 me_congregation-bnai-shalom\n\nShabbat Morning Playgroup & PJ Library Stor
 ytime\nat Congregation B’nai Shalom\nJoin us for arts & crafts\, storyti
 me and snacks!\nFor families with children 6 and under.\nSaturday\, Februa
 ry 9th at 10:45am\nCongregation B’nai Shalom\n117 East Main Street Westb
 orough\nPLEASE BRING A NUT-FREE SNACK TO SHARE.\nFor more information plea
 se contact\nAlissa Schimmel at earlychildhood@cbnaishalom.org
DTSTART;TZID=America/New_York:20190209T104500
DTEND;TZID=America/New_York:20190209T120000
END:VEVENT
END:VCALENDAR
