BEGIN:VCALENDAR
PRODID:-//eluceo/ical//2.0/EN
VERSION:2.0
CALSCALE:GREGORIAN
BEGIN:VEVENT
UID:0f72f05e4b1eefaab8d7573ca23078d9
DTSTAMP:20260423T053739Z
SUMMARY:Shabbat Across Central Mass 2025
DESCRIPTION:Jewish Federation of Central Massachusetts\nCalendar\nhttps://j
 ewishcentralmass.org/calendar/shabbat-across-central-mass-2025\n\nShabbat 
 Across Central Mass 2025
DTSTART;TZID=America/New_York:20250307T180000
DTEND;TZID=America/New_York:20250307T200000
END:VEVENT
END:VCALENDAR
