BEGIN:VCALENDAR
PRODID:-//eluceo/ical//2.0/EN
VERSION:2.0
CALSCALE:GREGORIAN
BEGIN:VEVENT
UID:8793e7b624468f659bcc7efaf7674a7f
DTSTAMP:20260421T035945Z
SUMMARY:Shabbat Across Central Mass
DESCRIPTION:Jewish Federation of Central Massachusetts\nCalendar\nhttps://j
 ewishcentralmass.org/calendar/shabbat-across-central-mass\n\nShabbat Acros
 s Central Mass\n\nMarch 8\n\nTime: TBD
DTSTART;TZID=America/New_York:20240308T180000
DTEND;TZID=America/New_York:20240308T200000
END:VEVENT
END:VCALENDAR
